BEGIN:VCALENDAR
VERSION:2.0
PRODID:-//Eventin//Event Calendar//EN
CALSCALE:GREGORIAN
METHOD:PUBLISH
BEGIN:VEVENT
UID:86cb68ac4f6cc936834447e83f06b832@thepub.com.mx
SUMMARY:COMMANDER NIGHT HAPPY HOUR &#8211\; DEL VALLE
DESCRIPTION:COMMANDER NIGHT HAPPY HOURTHE PUB GAME STORE DEL VALLE1 BOOSTER
  PACKPOR GANAR LA MESAVEN A JUGAR COMMANDER LOS MIÉRCOLES Y VIERNES A LAS 
 9:00 PM\, VENCE A TUS AMIGOS Y LLÉVATE UN BOOSTER PACK POR SER EL GANADOR 
 DE TU MESA.
LOCATION:The Pub Game Store Del Valle
DTSTAMP:20260424T162649Z
DTSTART:20260620T030000Z
DTEND:20260620T040000Z
END:VEVENT
END:VCALENDAR
