BEGIN:VCALENDAR
VERSION:2.0
PRODID:-//Eventin//Event Calendar//EN
CALSCALE:GREGORIAN
METHOD:PUBLISH
BEGIN:VEVENT
UID:fc74d37d3d77f4b4eaf9a567c702d6f8@thepub.com.mx
SUMMARY:Sesiones de Ajedrez MindChess
DESCRIPTION:
LOCATION:The Pub Game Store Del Valle
DTSTAMP:20260424T190847Z
DTSTART:20260513T140000Z
DTEND:20260513T230000Z
END:VEVENT
END:VCALENDAR
