BEGIN:VCALENDAR
VERSION:2.0
PRODID:-//Eventin//Event Calendar//EN
CALSCALE:GREGORIAN
METHOD:PUBLISH
BEGIN:VEVENT
UID:1d931e28ee6aa88b0321d12c36564ad0@thepub.com.mx
SUMMARY:Sesiones de Ajedrez MindChess
DESCRIPTION:
LOCATION:The Pub Game Store Del Valle
DTSTAMP:20260424T191332Z
DTSTART:20260514T140000Z
DTEND:20260514T230000Z
END:VEVENT
END:VCALENDAR
