BEGIN:VCALENDAR
VERSION:2.0
PRODID:-//Eventin//Event Calendar//EN
CALSCALE:GREGORIAN
METHOD:PUBLISH
BEGIN:VEVENT
UID:97aacda83bdafd1dd962fd2409feb3a4@thepub.com.mx
SUMMARY:Sesiones de Ajedrez MindChess
DESCRIPTION:
LOCATION:The Pub Game Store Del Valle
DTSTAMP:20260424T191729Z
DTSTART:20260519T140000Z
DTEND:20260519T230000Z
END:VEVENT
END:VCALENDAR
