BEGIN:VCALENDAR
VERSION:2.0
PRODID:-//Eventin//Event Calendar//EN
CALSCALE:GREGORIAN
METHOD:PUBLISH
BEGIN:VEVENT
UID:f641d4a9329f10aeae5d1752e837e67c@thepub.com.mx
SUMMARY:Sesiones de Ajedrez MindChess
DESCRIPTION:
LOCATION:The Pub Game Store Del Valle
DTSTAMP:20260424T191455Z
DTSTART:20260521T140000Z
DTEND:20260521T230000Z
END:VEVENT
END:VCALENDAR
