BEGIN:VCALENDAR
VERSION:2.0
PRODID:-//Eventin//Event Calendar//EN
CALSCALE:GREGORIAN
METHOD:PUBLISH
BEGIN:VEVENT
UID:abdf3fd4bb9f29c7acb33d3d1bb9333d@thepub.com.mx
SUMMARY:Sesiones de Ajedrez MindChess
DESCRIPTION:
LOCATION:The Pub Game Store Del Valle
DTSTAMP:20260424T190930Z
DTSTART:20260527T140000Z
DTEND:20260527T230000Z
END:VEVENT
END:VCALENDAR
