BEGIN:VCALENDAR
VERSION:2.0
PRODID:-//Eventin//Event Calendar//EN
CALSCALE:GREGORIAN
METHOD:PUBLISH
BEGIN:VEVENT
UID:60a73e4e8e45bbbd26e1d9a6999ecc06@thepub.com.mx
SUMMARY:Sesiones de Ajedrez MindChess
DESCRIPTION:
LOCATION:The Pub Game Store Del Valle
DTSTAMP:20260424T191253Z
DTSTART:20260528T140000Z
DTEND:20260528T230000Z
END:VEVENT
END:VCALENDAR
