BEGIN:VCALENDAR
VERSION:2.0
PRODID:-//Eventin//Event Calendar//EN
CALSCALE:GREGORIAN
METHOD:PUBLISH
BEGIN:VEVENT
UID:0947000e0324c9f6861ff3a2a84b448b@thepub.com.mx
SUMMARY:El Lobby - PUBG - Evento Privado de Comunidad
DESCRIPTION:Información en :https://www.facebook.com/photo.php?fbid=129154
 5239830317&set=pb.100069245592195.-2207520000&type=3
LOCATION:The Pub Game Store Del Valle
DTSTAMP:20260424T175427Z
DTSTART:20260425T160000Z
DTEND:20260425T210000Z
END:VEVENT
END:VCALENDAR
